BEGIN:VCALENDAR
VERSION:2.0
PRODID:-//La Joya Community High School - ECPv6.15.17.1//NONSGML v1.0//EN
CALSCALE:GREGORIAN
METHOD:PUBLISH
X-ORIGINAL-URL:https://lajoya.tuhsd.org
X-WR-CALDESC:Events for La Joya Community High School
REFRESH-INTERVAL;VALUE=DURATION:PT1H
X-Robots-Tag:noindex
X-PUBLISHED-TTL:PT1H
BEGIN:VTIMEZONE
TZID:America/Phoenix
BEGIN:STANDARD
TZOFFSETFROM:-0700
TZOFFSETTO:-0700
TZNAME:MST
DTSTART:20250101T000000
END:STANDARD
END:VTIMEZONE
BEGIN:VEVENT
DTSTART;VALUE=DATE:20260204
DTEND;VALUE=DATE:20260205
DTSTAMP:20260420T073500
CREATED:20240612T163808Z
LAST-MODIFIED:20240612T163808Z
UID:10000124-1770163200-1770249599@lajoya.tuhsd.org
SUMMARY:Early Release
DESCRIPTION:
URL:https://lajoya.tuhsd.org/calendar-event/early-release-61
END:VEVENT
BEGIN:VEVENT
DTSTART;TZID=America/Phoenix:20260204T180000
DTEND;TZID=America/Phoenix:20260204T180000
DTSTAMP:20260420T073500
CREATED:20260129T014108Z
LAST-MODIFIED:20260129T014108Z
UID:10000242-1770228000-1770228000@lajoya.tuhsd.org
SUMMARY:Family Resource Center Meeting
DESCRIPTION:
URL:https://lajoya.tuhsd.org/calendar-event/family-resource-center-meeting
LOCATION:District Office
END:VEVENT
BEGIN:VEVENT
DTSTART;VALUE=DATE:20260211
DTEND;VALUE=DATE:20260212
DTSTAMP:20260420T073500
CREATED:20240612T163809Z
LAST-MODIFIED:20240612T163809Z
UID:10000125-1770768000-1770854399@lajoya.tuhsd.org
SUMMARY:Early Release
DESCRIPTION:
URL:https://lajoya.tuhsd.org/calendar-event/early-release-62
END:VEVENT
BEGIN:VEVENT
DTSTART;VALUE=DATE:20260213
DTEND;VALUE=DATE:20260214
DTSTAMP:20260420T073500
CREATED:20240612T164007Z
LAST-MODIFIED:20240612T164007Z
UID:10000126-1770940800-1771027199@lajoya.tuhsd.org
SUMMARY:Winter Recess (Holiday)
DESCRIPTION:
URL:https://lajoya.tuhsd.org/calendar-event/winter-recess-holiday
END:VEVENT
BEGIN:VEVENT
DTSTART;VALUE=DATE:20260216
DTEND;VALUE=DATE:20260217
DTSTAMP:20260420T073500
CREATED:20240612T164008Z
LAST-MODIFIED:20240612T164008Z
UID:10000127-1771200000-1771286399@lajoya.tuhsd.org
SUMMARY:Presidents Day Holiday (No School)
DESCRIPTION:
URL:https://lajoya.tuhsd.org/calendar-event/presidents-day-holiday-no-school-2
END:VEVENT
BEGIN:VEVENT
DTSTART;VALUE=DATE:20260218
DTEND;VALUE=DATE:20260219
DTSTAMP:20260420T073500
CREATED:20240612T164009Z
LAST-MODIFIED:20240612T164009Z
UID:10000128-1771372800-1771459199@lajoya.tuhsd.org
SUMMARY:Early Release
DESCRIPTION:
URL:https://lajoya.tuhsd.org/calendar-event/early-release-63
END:VEVENT
BEGIN:VEVENT
DTSTART;VALUE=DATE:20260225
DTEND;VALUE=DATE:20260226
DTSTAMP:20260420T073500
CREATED:20240612T164009Z
LAST-MODIFIED:20240612T164009Z
UID:10000129-1771977600-1772063999@lajoya.tuhsd.org
SUMMARY:Early Release
DESCRIPTION:
URL:https://lajoya.tuhsd.org/calendar-event/early-release-64
END:VEVENT
END:VCALENDAR