BEGIN:VCALENDAR
VERSION:2.0
PRODID:-//La Joya Community High School - ECPv6.15.17.1//NONSGML v1.0//EN
CALSCALE:GREGORIAN
METHOD:PUBLISH
X-WR-CALNAME:La Joya Community High School
X-ORIGINAL-URL:https://lajoya.tuhsd.org
X-WR-CALDESC:Events for La Joya Community High School
REFRESH-INTERVAL;VALUE=DURATION:PT1H
X-Robots-Tag:noindex
X-PUBLISHED-TTL:PT1H
BEGIN:VTIMEZONE
TZID:America/Phoenix
BEGIN:STANDARD
TZOFFSETFROM:-0700
TZOFFSETTO:-0700
TZNAME:MST
DTSTART:20240101T000000
END:STANDARD
END:VTIMEZONE
BEGIN:VEVENT
DTSTART;VALUE=DATE:20250205
DTEND;VALUE=DATE:20250206
DTSTAMP:20260421T073626
CREATED:20240612T161009Z
LAST-MODIFIED:20240612T161009Z
UID:10000062-1738713600-1738799999@lajoya.tuhsd.org
SUMMARY:Early Release
DESCRIPTION:
URL:https://lajoya.tuhsd.org/calendar-event/early-release-22
END:VEVENT
BEGIN:VEVENT
DTSTART;VALUE=DATE:20250212
DTEND;VALUE=DATE:20250213
DTSTAMP:20260421T073626
CREATED:20240612T161009Z
LAST-MODIFIED:20240612T161009Z
UID:10000063-1739318400-1739404799@lajoya.tuhsd.org
SUMMARY:Early Release
DESCRIPTION:
URL:https://lajoya.tuhsd.org/calendar-event/early-release-23
END:VEVENT
BEGIN:VEVENT
DTSTART;VALUE=DATE:20250214
DTEND;VALUE=DATE:20250215
DTSTAMP:20260421T073626
CREATED:20240612T161010Z
LAST-MODIFIED:20240612T161010Z
UID:10000064-1739491200-1739577599@lajoya.tuhsd.org
SUMMARY:Winter Recess (No School)
DESCRIPTION:
URL:https://lajoya.tuhsd.org/calendar-event/winter-recess-no-school
END:VEVENT
BEGIN:VEVENT
DTSTART;VALUE=DATE:20250217
DTEND;VALUE=DATE:20250218
DTSTAMP:20260421T073626
CREATED:20240612T161010Z
LAST-MODIFIED:20240612T161010Z
UID:10000065-1739750400-1739836799@lajoya.tuhsd.org
SUMMARY:Presidents Day Holiday (No School)
DESCRIPTION:
URL:https://lajoya.tuhsd.org/calendar-event/presidents-day-holiday-no-school
END:VEVENT
BEGIN:VEVENT
DTSTART;VALUE=DATE:20250219
DTEND;VALUE=DATE:20250220
DTSTAMP:20260421T073626
CREATED:20240612T161209Z
LAST-MODIFIED:20240612T161209Z
UID:10000066-1739923200-1740009599@lajoya.tuhsd.org
SUMMARY:Early Release
DESCRIPTION:
URL:https://lajoya.tuhsd.org/calendar-event/early-release-24
END:VEVENT
BEGIN:VEVENT
DTSTART;TZID=America/Phoenix:20250220T173000
DTEND;TZID=America/Phoenix:20250220T190000
DTSTAMP:20260421T073626
CREATED:20250124T210342Z
LAST-MODIFIED:20250124T210342Z
UID:10000234-1740072600-1740078000@lajoya.tuhsd.org
SUMMARY:Future Freshman Night
DESCRIPTION:
URL:https://lajoya.tuhsd.org/calendar-event/future-freshman-night
LOCATION:Gym
END:VEVENT
BEGIN:VEVENT
DTSTART;VALUE=DATE:20250226
DTEND;VALUE=DATE:20250227
DTSTAMP:20260421T073626
CREATED:20240612T161210Z
LAST-MODIFIED:20240612T161210Z
UID:10000067-1740528000-1740614399@lajoya.tuhsd.org
SUMMARY:Early Release
DESCRIPTION:
URL:https://lajoya.tuhsd.org/calendar-event/early-release-25
END:VEVENT
END:VCALENDAR